BEGIN:VCALENDAR
PRODID:-//AT Content Types//AT Event//EN
VERSION:2.0
METHOD:PUBLISH
BEGIN:VEVENT
DTSTAMP:20260421T041635+0200
CREATED:20220718T092847+0200
UID:ATEvent-5f830af7f3dd484e9ce89c108d940d1b
LAST-MODIFIED:20220718T093640+0200
SUMMARY:20. Schlauchlinertag
DTSTART:20220914T000000+0200
DTEND:
DESCRIPTION:Beim diesjährigen 20. Deutschen Schlauchlinertag und 11. 
 Deutschen Reparaturtag\, am 14. und 15. September 2022 in Kassel\, bie
 ten die TAH ihren renommierten zweitägigen Branchentreff wieder als H
 ybridveranstaltung an. Das Ziel dieses Hybrid-Konzeptes für die beide
 n Veranstaltungstage ist es\, allen Interessent:innen die Möglichkeit
  zu bieten\, am diesjährigen Schlauchliner- und Reparaturtag teilzune
 hmen. Somit haben auch jene\, denen das Reisen bzw. der Besuch einer P
 räsenzveranstaltung vorerst noch verwehrt bleibt\, die Gelegenheit on
 line dabei zu sein. Die Vorträge werden live in unseren virtuellen Ve
 ranstaltungsraum übertragen.
CONTACT:\,  +49 (0)511 39433-30\, info@ta-hannover.de
URL:https://schlauchliner.de/veranstaltung/anmeldung.html#view3
CLASS:PUBLIC
END:VEVENT
END:VCALENDAR
