BEGIN:VCALENDAR
PRODID:-//AT Content Types//AT Event//EN
VERSION:2.0
METHOD:PUBLISH
BEGIN:VEVENT
DTSTAMP:20260421T130855+0200
CREATED:20180427T154431+0200
UID:ATEvent-bbf6c3f155af40d8bda7dbdc4b14e0f1
LAST-MODIFIED:20180427T155715+0200
SUMMARY:8. Frankfurter Abwassersymposium
DTSTART:20180619T000000+0200
DTEND:
DESCRIPTION:Neue Wege für einen effizienten Belebungsbeckenbetrieb
LOCATION:SAALBAU Gutleut
CATEGORIES:Abwasserreinigung, Abwasser
CONTACT:\, +49 511 39433 30\, info@ta-hannover.de
URL:http://www.ta-hannover.de/download/Flyer-FAS.pdf
CLASS:PUBLIC
END:VEVENT
END:VCALENDAR
