BEGIN:VCALENDAR
PRODID:-//AT Content Types//AT Event//EN
VERSION:2.0
METHOD:PUBLISH
BEGIN:VEVENT
DTSTAMP:20260426T020733+0200
CREATED:20230424T171644+0200
UID:ATEvent-a144823d3344461fbde7cc55b887abbe
LAST-MODIFIED:20230424T172811+0200
SUMMARY:Kanalgipfel 2023
DTSTART:20230920T000000+0200
DTEND:20230921T000000+0200
LOCATION:Zentralheize
CONTACT:Dr.-Ing. Robert Stein\, +49 (0) 234 5167 113\, robert.stein@stein.de
URL:https://kanalgipfel.de/
CLASS:PUBLIC
END:VEVENT
END:VCALENDAR
