BEGIN:VCALENDAR
PRODID:-//AT Content Types//AT Event//EN
VERSION:2.0
METHOD:PUBLISH
BEGIN:VEVENT
DTSTAMP:20260424T222748+0200
CREATED:20220711T093522+0200
UID:ATEvent-627647e840f74fc591426606a88aece9
LAST-MODIFIED:20220711T100059+0200
SUMMARY:Planung und Ausführung von Grundstücksentwässerungsanlagen
DTSTART:20220823T090000+0200
DTEND:20220823T163000+0200
DESCRIPTION:DIN 1986 Teil 100
LOCATION:IKT - Institut für Unterirdische Infrastruktur gemeinnützige GmbH
CONTACT:M. Eng. Kilian Möllers\, 0209 178060\, info@ikt.de
URL:https://www.ikt.de/wp-content/uploads/2022/02/768-din-1986-100-praesenz-2022.pdf
CLASS:PUBLIC
END:VEVENT
END:VCALENDAR
